BEGIN:VCALENDAR
VERSION:2.0
PRODID:-//CrossLink - ECPv6.15.17.1//NONSGML v1.0//EN
CALSCALE:GREGORIAN
METHOD:PUBLISH
X-WR-CALNAME:CrossLink
X-ORIGINAL-URL:https://www.crosslinktax.com
X-WR-CALDESC:Events for CrossLink
REFRESH-INTERVAL;VALUE=DURATION:PT1H
X-Robots-Tag:noindex
X-PUBLISHED-TTL:PT1H
BEGIN:VTIMEZONE
TZID:UTC
BEGIN:STANDARD
TZOFFSETFROM:+0000
TZOFFSETTO:+0000
TZNAME:UTC
DTSTART:20230101T000000
END:STANDARD
END:VTIMEZONE
BEGIN:VTIMEZONE
TZID:America/Los_Angeles
BEGIN:DAYLIGHT
TZOFFSETFROM:-0800
TZOFFSETTO:-0700
TZNAME:PDT
DTSTART:20230312T100000
END:DAYLIGHT
BEGIN:STANDARD
TZOFFSETFROM:-0700
TZOFFSETTO:-0800
TZNAME:PST
DTSTART:20231105T090000
END:STANDARD
BEGIN:DAYLIGHT
TZOFFSETFROM:-0800
TZOFFSETTO:-0700
TZNAME:PDT
DTSTART:20240310T100000
END:DAYLIGHT
BEGIN:STANDARD
TZOFFSETFROM:-0700
TZOFFSETTO:-0800
TZNAME:PST
DTSTART:20241103T090000
END:STANDARD
BEGIN:DAYLIGHT
TZOFFSETFROM:-0800
TZOFFSETTO:-0700
TZNAME:PDT
DTSTART:20250309T100000
END:DAYLIGHT
BEGIN:STANDARD
TZOFFSETFROM:-0700
TZOFFSETTO:-0800
TZNAME:PST
DTSTART:20251102T090000
END:STANDARD
END:VTIMEZONE
BEGIN:VEVENT
DTSTART;TZID=UTC:20241230T100000
DTEND;TZID=UTC:20241230T110000
DTSTAMP:20260419T151203
CREATED:20241118T221049Z
LAST-MODIFIED:20241118T221049Z
UID:10000019-1735552800-1735556400@www.crosslinktax.com
SUMMARY:Navigating Through a Return in CrossLink Online – Spanish
DESCRIPTION:Este seminario web se centrará en la preparación precisa de declaraciones de impuestos individuales -desde la recopilación de los datos pertinentes del contribuyente hasta la transmisión de la declaración- en el versátil programa en línea de CrossLink. Demostraremos diferentes metodologías de rendimiento y mostraremos lo fácil que puede ser el procesamiento sin papel y la recogida de firmas a distancia. Finalizaremos cubriendo la depreciación y cómo verificar si hay errores en las declaraciones antes de transmitirlas.
URL:https://www.crosslinktax.com/event/navigating-through-a-return-in-crosslink-online-spanish/2024-12-30/
LOCATION:Webinar
CATEGORIES:Webinars
ATTACH;FMTTYPE=image/jpeg:https://www.crosslinktax.com/wp-content/uploads/2024/11/webinars-womanwlaptopwheadphones.jpg
ORGANIZER;CN="CrossLink":MAILTO:sales@CrossLinkTax.com
END:VEVENT
BEGIN:VEVENT
DTSTART;TZID=America/Los_Angeles:20241230T180000
DTEND;TZID=America/Los_Angeles:20241230T190000
DTSTAMP:20260419T151203
CREATED:20241118T221049Z
LAST-MODIFIED:20241118T221049Z
UID:10000034-1735581600-1735585200@www.crosslinktax.com
SUMMARY:Navigating Through a Return in CrossLink Online – Spanish
DESCRIPTION:This webinar will focus on accurately preparing individual tax returns – from collecting the relevant taxpayer data to transmitting the return – in CrossLink’s versatile online program. We will demonstrate different performance methodologies and show how easy paperless processing and remote signature collection can be. We will finish by covering depreciation and how to check returns for errors before transmitting them.
URL:https://www.crosslinktax.com/event/navigating-through-a-return-in-crosslink-online-spanish-2/2024-12-30/
LOCATION:https://attendee.gotowebinar.com/rt/1954240523845218649
CATEGORIES:Webinars
ATTACH;FMTTYPE=image/jpeg:https://www.crosslinktax.com/wp-content/uploads/2024/11/webinars-womanwlaptopwheadphones-1.jpg
ORGANIZER;CN="CrossLink":MAILTO:sales@CrossLinkTax.com
END:VEVENT
END:VCALENDAR