BEGIN:VCALENDAR
VERSION:2.0
PRODID:-//CrossLink - ECPv6.15.17.1//NONSGML v1.0//EN
CALSCALE:GREGORIAN
METHOD:PUBLISH
X-WR-CALNAME:CrossLink
X-ORIGINAL-URL:https://www.crosslinktax.com
X-WR-CALDESC:Events for CrossLink
REFRESH-INTERVAL;VALUE=DURATION:PT1H
X-Robots-Tag:noindex
X-PUBLISHED-TTL:PT1H
BEGIN:VTIMEZONE
TZID:America/Los_Angeles
BEGIN:DAYLIGHT
TZOFFSETFROM:-0800
TZOFFSETTO:-0700
TZNAME:PDT
DTSTART:20230312T100000
END:DAYLIGHT
BEGIN:STANDARD
TZOFFSETFROM:-0700
TZOFFSETTO:-0800
TZNAME:PST
DTSTART:20231105T090000
END:STANDARD
BEGIN:DAYLIGHT
TZOFFSETFROM:-0800
TZOFFSETTO:-0700
TZNAME:PDT
DTSTART:20240310T100000
END:DAYLIGHT
BEGIN:STANDARD
TZOFFSETFROM:-0700
TZOFFSETTO:-0800
TZNAME:PST
DTSTART:20241103T090000
END:STANDARD
BEGIN:DAYLIGHT
TZOFFSETFROM:-0800
TZOFFSETTO:-0700
TZNAME:PDT
DTSTART:20250309T100000
END:DAYLIGHT
BEGIN:STANDARD
TZOFFSETFROM:-0700
TZOFFSETTO:-0800
TZNAME:PST
DTSTART:20251102T090000
END:STANDARD
END:VTIMEZONE
BEGIN:VEVENT
DTSTART;TZID=America/Los_Angeles:20241217T100000
DTEND;TZID=America/Los_Angeles:20241217T110000
DTSTAMP:20260419T184649
CREATED:20241118T204922Z
LAST-MODIFIED:20241118T213448Z
UID:10000013-1734429600-1734433200@www.crosslinktax.com
SUMMARY:Navigating Through a Return in CrossLink Desktop
DESCRIPTION:This webinar will introduce CrossLink Desktop’s different tax preparation methodologies\, as well as how easy throughput is when using the program. We’ll look at how simple and seamless providing an estimation to the taxpayer can be\, then work through completing a return\, including depreciation and obligatory due diligence. We’ll finish by showing how to verify returns for errors before transmitting.
URL:https://www.crosslinktax.com/event/navigating-through-a-return-in-crosslink-desktop/2024-12-17/
LOCATION:Webinar
CATEGORIES:Webinars
ATTACH;FMTTYPE=image/jpeg:https://www.crosslinktax.com/wp-content/uploads/2024/11/webinars-womanwlaptopwheadphones.jpg
ORGANIZER;CN="CrossLink":MAILTO:sales@CrossLinkTax.com
END:VEVENT
BEGIN:VEVENT
DTSTART;TZID=America/Los_Angeles:20241217T100000
DTEND;TZID=America/Los_Angeles:20241217T110000
DTSTAMP:20260419T184649
CREATED:20241118T204922Z
LAST-MODIFIED:20241118T204922Z
UID:10000028-1734429600-1734433200@www.crosslinktax.com
SUMMARY:Navigating Through a Return in CrossLink Desktop
DESCRIPTION:This webinar will introduce CrossLink Desktop’s different tax preparation methodologies\, as well as how easy throughput is when using the program. We’ll look at how simple and seamless providing an estimation to the taxpayer can be\, then work through completing a return\, including depreciation and obligatory due diligence. We’ll finish by showing how to verify returns for errors before transmitting.
URL:https://www.crosslinktax.com/event/navigating-through-a-return-in-crosslink-desktop-2/2024-12-17/
LOCATION:https://attendee.gotowebinar.com/rt/410980296749766490
CATEGORIES:Webinars
ATTACH;FMTTYPE=image/jpeg:https://www.crosslinktax.com/wp-content/uploads/2024/11/webinars-womanwlaptopwheadphones-1.jpg
ORGANIZER;CN="CrossLink":MAILTO:sales@CrossLinkTax.com
END:VEVENT
END:VCALENDAR